BEGIN:VCALENDAR
VERSION:2.0
METHOD:PUBLISH
PRODID:-//Agenda.ad//NONSGML v1.0//EN
BEGIN:VEVENT
CLASS:PUBLIC
UID:8a913f14d2957a801f27b8712eb62264@agenda.ad
DTSTAMP:20260419T162755Z
DTSTART:20260410T220000Z
DTEND:20260410T220000Z
SUMMARY:<h1 class="documentFirstHeading">Taula rodona d'escriptors d'Andorra</h1>
<div>&nbsp;</div>
<div id="viewlet-below-content-title">&nbsp;</div>
DESCRIPTION:\n\nMés informació\nhttps://www.agenda.ad/activitat/encamp
 /conferencies/taula-rodona-d-escriptors-d-andorra- - \n
LOCATION:Biblioteca Comunal d'Encamp
SEQUENCE:0
TRANSP:OPAQUE
X-ALT-DESC;FMTTYPE=text/html:<!DOCTYPE HTML PUBLIC "-//W3C//DTD HTML 3.2//EN"><HTML><HEAD
 ><TITLE></TITLE></HEAD><BODY><FONT FACE="Arial" SIZE=2><br/>
 <br/><b>Més informació</b><br/><a href="https://www.agenda
 .ad/activitat/encamp/conferencies/taula-rodona-d-escriptors-
 d-andorra- - ">https://www.agenda.ad/activitat/encamp/conf
 erencies/taula-rodona-d-escriptors-d-andorra- - </a><br/><
 /FONT></BODY></HTML>
END:VEVENT
END:VCALENDAR